BEGIN:VCALENDAR
VERSION:2.0
PRODID:-//Monarch Defense - ECPv6.15.13//NONSGML v1.0//EN
CALSCALE:GREGORIAN
METHOD:PUBLISH
X-ORIGINAL-URL:https://monarchdefense.org
X-WR-CALDESC:Events for Monarch Defense
REFRESH-INTERVAL;VALUE=DURATION:PT1H
X-Robots-Tag:noindex
X-PUBLISHED-TTL:PT1H
BEGIN:VTIMEZONE
TZID:America/Los_Angeles
BEGIN:DAYLIGHT
TZOFFSETFROM:-0800
TZOFFSETTO:-0700
TZNAME:PDT
DTSTART:20250309T100000
END:DAYLIGHT
BEGIN:STANDARD
TZOFFSETFROM:-0700
TZOFFSETTO:-0800
TZNAME:PST
DTSTART:20251102T090000
END:STANDARD
BEGIN:DAYLIGHT
TZOFFSETFROM:-0800
TZOFFSETTO:-0700
TZNAME:PDT
DTSTART:20260308T100000
END:DAYLIGHT
BEGIN:STANDARD
TZOFFSETFROM:-0700
TZOFFSETTO:-0800
TZNAME:PST
DTSTART:20261101T090000
END:STANDARD
BEGIN:DAYLIGHT
TZOFFSETFROM:-0800
TZOFFSETTO:-0700
TZNAME:PDT
DTSTART:20270314T100000
END:DAYLIGHT
BEGIN:STANDARD
TZOFFSETFROM:-0700
TZOFFSETTO:-0800
TZNAME:PST
DTSTART:20271107T090000
END:STANDARD
END:VTIMEZONE
BEGIN:VEVENT
DTSTART;TZID=America/Los_Angeles:20260117T170000
DTEND;TZID=America/Los_Angeles:20260117T210000
DTSTAMP:20251224T204310
CREATED:20251113T202719Z
LAST-MODIFIED:20251220T021308Z
UID:10000333-1768669200-1768683600@monarchdefense.org
SUMMARY:Team Close Quarter Battle 17Jan26
DESCRIPTION:Modern conflicts are fought and won in and around urban environments. If a private citizen must conduct armed self defense\, it will invariably be within the urban environment\, such as in and around cars\, parking lots\, homes\, offices\, or local businesses. In this tactical training module you will practice the movement\, safety\, and problem solving aspects of single person defensive combat within buildings or tight urban confines. You will practice with live ammunition inside our shoot house\, both in the day and in the dark.   \nLearn:  \nMovement in teamsPriorities of workFootwork around doorwaysTactical decision makingPrioritizing threatsManaging doors\, windows\, adjacent spacesEmploying flashbang grenadesLive fire shoot house drillsShoot/no shoot target identification \nThis class is part of the Combat Rifle School. We schedule small group instruction based upon the your request. This program consists of the following 50 unique training modules\, plus additional practical and field exercises. If you would like to participate in this program\, the price is $995 for the first 6 months\, then $165.83 per month thereafter. Call Brian at 408-892-5460 or email info@monarchdefense.org to apply.  \n\nCombat Rifle Theory\nBasic Combat Rifle\nShoot Move Communicate\nCombat Rifle Fundamentals\nCombat Rifle Optics\nClose Quarters Combat Rifle\nNight Combat Rifle\nAdvanced Combat Rifle\nPrecision Rifle Theory\nPrecision Rifle Fundamentals\nPrecision Rifle D.O.P.E.\nPrecision Rifle WIND\nTactical Precision Rifle\nSelf Defense Theory\nBasic Defensive Shotgun\nDefensive Handgun Theory\nBasic Defensive Handgun\nDefensive Handgun Fundamentals\nNight Defensive Handgun\nClose Quarters Defensive Handgun\nAdvanced Defensive Handgun\nHigh Intensity Gunfighting Drills\nClose Quarter Battle Theory\nSolo Close Quarter Battle\nTeam Close Quarter Battle \nThe American Rifle\nAmmunition Science \nAmmunition Data Collection\nAmmunition Production\nSpecial Purpose Rifle\nBasic Tactical Fieldcraft\nLong Range Observation\nBasic Stealth and Camouflage\nGhillie Suit and Thermal Camouflage\nKalash Klas\nThermal Weapon Sights\nHand Grenade Theory\nDrone Theory\nRadio Theory\nLand Navigation\nAnti-Materiel Rifle Theory\nAutomatic Rifle Theory\nCombat First Aid\nCare Under Fire\nPrinciples of Patrol\nPrinciples of Reconnaissance\nPrinciples of Attack\nPrinciples of Defense\nPrinciples of Ambush\nPrinciples of Raid\n\n\n\n\nPrerequisite: \n\n\n\nSelf Defense TheoryBasic Combat Rifle if using a rifleBasic Defensive Handgun if using a handgunBasic Defensive Shotgun if using a shotgunClose Quarter Battle Theory \n\n\n\n\n\nLocation: \nOur facility is in the mountains 1 hour east of San Jose\, 1 hour south from Livermore. Detail directions will be emailed to those who sign up. If you are inexperienced in driving mountain roads\, give yourself 2 hours to make the trip. \nCancellations: \nIf you do not plan to attend\, notify us immediately so that we can give your spot in class to another student. If you register for a class then no-show\, you will be charged a $50 Pain In the Ass fee. We do not issue refunds. Questions? Call Brian at 408-892-5460 or email info@monarchdefense.org. \nPacking list:  \n\n\n\nSturdy bootsSturdy pantsBeltLong sleeve shirt or jacketGlovesLayer garments so you can adjust for cold\, wet\, or warm weatherHatPistol or revolver with holster\, optional (We can provide weapons and equipment free of charge\, contact us for details)Rifle or shotgun Loading bearing equipment for carrying water and ammo200+ rounds of ammunition\, or communicate clearly in advance and pay $80 for ammo via Venmo brian-wang-11 or Zelle info@monarchdefense.orgCleaning kit with oil\, rag\, toothbrushClear eye protectionEar protection 1 gallon of waterSalty snacks and bag lunchFlashlightNotebook and penHelmet and armor recommendedNight vision and laser recommendedIndividual First Aid Kit
URL:https://monarchdefense.org/event/team-close-quarter-battle-17jan26/
LOCATION:CA
CATEGORIES:CQB Classes,Handgun Classes,Rifle Classes,shotgun classes,Tactical Training
ATTACH;FMTTYPE=image/jpeg:https://monarchdefense.org/wp-content/uploads/2024/03/8152c9ef-7911-4edc-868c-9073fc912895_original-1-e1710406475159.jpg
ORGANIZER;CN="Brian Wang":MAILTO:info@monarchdefense.org
END:VEVENT
BEGIN:VEVENT
DTSTART;TZID=America/Los_Angeles:20260124T120000
DTEND;TZID=America/Los_Angeles:20260124T170000
DTSTAMP:20251224T204310
CREATED:20251212T000552Z
LAST-MODIFIED:20251212T000807Z
UID:10000347-1769256000-1769274000@monarchdefense.org
SUMMARY:Defensive Handgun Fundamentals 24JAN26
DESCRIPTION:Defensive Handgun Fundamentals is designed to deepen the student’s understanding of marksmanship using a pistol or revolver. Simply\, how do you make the bullet go where you want it to go? Handguns are challenging to shoot accurately and this training is crucial to help you master your tools of self defense. \nThis class is part of the Combat Rifle School. We schedule small group instruction based upon the your request. This program consists of the following 50 unique training modules\, plus additional practical and field exercises. If you would like to participate in this program\, the price is $995 for the first 6 months\, then $165.83 per month thereafter. Call Brian at 408-892-5460 or email info@monarchdefense.org to apply. \n\nCombat Rifle Theory\nBasic Combat Rifle\nShoot Move Communicate\nCombat Rifle Fundamentals\nCombat Rifle Optics\nClose Quarters Combat Rifle\nNight Combat Rifle\nAdvanced Combat Rifle\nPrecision Rifle Theory\nPrecision Rifle Fundamentals\nPrecision Rifle D.O.P.E.\nPrecision Rifle WIND\nTactical Precision Rifle\nSelf Defense Theory\nBasic Defensive Shotgun\nDefensive Handgun Theory\nBasic Defensive Handgun\nDefensive Handgun Fundamentals\nNight Defensive Handgun\nClose Quarters Defensive Handgun\nAdvanced Defensive Handgun\nHigh Intensity Gunfighting Drills\nClose Quarter Battle Theory\nSolo Close Quarter Battle\nTeam Close Quarter Battle\nThe American Rifle\nAmmunition Science\nAmmunition Data Collection\nAmmunition Production\nSpecial Purpose Rifle\nBasic Tactical Fieldcraft\nLong Range Observation\nBasic Stealth and Camouflage\nGhillie Suit and Thermal Camouflage\nKalash Klas\nThermal Weapon Sights\nHand Grenade Theory\nDrone Theory\nRadio Theory\nLand Navigation\nAnti-Materiel Rifle Theory\nAutomatic Rifle Theory\nCombat First Aid\nCare Under Fire\nPrinciples of Patrol\nPrinciples of Reconnaissance\nPrinciples of Attack\nPrinciples of Defense\nPrinciples of Ambush\nPrinciples of Raid\n\nPrerequisite:  \nSelf Defense Theory\nBasic Defensive Handgun \nCancellations: \nIf you do not plan to attend\, notify us immediately so that we can give your spot in class to another student. If you register for a class then no-show\, you will be charged a $50 Pain In the Ass fee. We do not issue refunds. Questions? Call Brian at 408-892-5460 or email info@monarchdefense.org. \nLocation: \nOur facility is in the mountains 1 hour east of San Jose\, 1 hour south from Livermore. Detail directions will be emailed to those who sign up. \nLearn:  \nIsosceles\nWeaver\nStrong hand \nStandards for Precision and Accuracy: 16 minutes of angle with iron sights with standard ammunition from standing isosceles position\, corresponding to 100m effective range on man sized target\, and 17m effective range on vital organ (brain stem\, heart) size target \nWhat is flinch or anticipation\, and how to fix and prevent it? \nPower stance\nHigh hold\nCrush grip\nFront sight\nSmooth Roll \nNatural point of aim\nBreathing\nSight alignment\nSight picture\nFront sight focus\nTrigger press\nFollow through\nRecoil management \nHow to zero pistol red dot sight or adjustable target sights\nThe path forward\, how to set goals\, and practice \nPacking List: \nClose toe shoes\nBelt and holster\nLayer garments so you can adjust for cold\, wet\, or warm weather\nHat\nPistol with 3+ magazines\n250+ rounds of ammunition\nCleaning kit with oil\, rag\, toothbrush\, barrel rod\nTools for mounting and adjusting your optics\, holsters etc.\nIndividual first aid kit (IFAK)\nEye protection\nEar protection\n1 gallon of water per day\nSalty snacks and bag lunch\nWe have weapons\, magazines\, magazine carriers\, pistols\, holsters\, night vision\, armor\, helmet etc. for you to borrow for free. All you need to do is communicate clearly in advance what you need to borrow\, and clean what you used before turning it back in.\nWe can supply all the ammunition you need for $80 per person per day. We can take cash\, Zelle to info@monarchdefense.org or Venmo to brian-wang-11.
URL:https://monarchdefense.org/event/defensive-handgun-fundamentals-24jan26/
LOCATION:Monarch Defense\, San Jose\, CA\, 95140\, United States
CATEGORIES:advanced training,Beginner Classes,concealed carry training,Firearm Safety Classes,Handgun Classes
ATTACH;FMTTYPE=image/jpeg:https://monarchdefense.org/wp-content/uploads/2019/07/DSC_2228-e1706694165492.jpg
ORGANIZER;CN="Brian Wang":MAILTO:info@monarchdefense.org
GEO:37.350549547595;-121.54513018949
END:VEVENT
END:VCALENDAR