BEGIN:VCALENDAR
VERSION:2.0
PRODID:-//Monarch Defense - ECPv6.15.20//NONSGML v1.0//EN
CALSCALE:GREGORIAN
METHOD:PUBLISH
X-WR-CALNAME:Monarch Defense
X-ORIGINAL-URL:https://monarchdefense.org
X-WR-CALDESC:Events for Monarch Defense
REFRESH-INTERVAL;VALUE=DURATION:PT1H
X-Robots-Tag:noindex
X-PUBLISHED-TTL:PT1H
BEGIN:VTIMEZONE
TZID:America/Los_Angeles
BEGIN:DAYLIGHT
TZOFFSETFROM:-0800
TZOFFSETTO:-0700
TZNAME:PDT
DTSTART:20230312T100000
END:DAYLIGHT
BEGIN:STANDARD
TZOFFSETFROM:-0700
TZOFFSETTO:-0800
TZNAME:PST
DTSTART:20231105T090000
END:STANDARD
BEGIN:DAYLIGHT
TZOFFSETFROM:-0800
TZOFFSETTO:-0700
TZNAME:PDT
DTSTART:20240310T100000
END:DAYLIGHT
BEGIN:STANDARD
TZOFFSETFROM:-0700
TZOFFSETTO:-0800
TZNAME:PST
DTSTART:20241103T090000
END:STANDARD
BEGIN:DAYLIGHT
TZOFFSETFROM:-0800
TZOFFSETTO:-0700
TZNAME:PDT
DTSTART:20250309T100000
END:DAYLIGHT
BEGIN:STANDARD
TZOFFSETFROM:-0700
TZOFFSETTO:-0800
TZNAME:PST
DTSTART:20251102T090000
END:STANDARD
END:VTIMEZONE
BEGIN:VEVENT
DTSTART;TZID=America/Los_Angeles:20240120T090000
DTEND;TZID=America/Los_Angeles:20240120T150000
DTSTAMP:20260421T013911
CREATED:20231228T222659Z
LAST-MODIFIED:20240131T094445Z
UID:10000005-1705741200-1705762800@monarchdefense.org
SUMMARY:Firearm Safety Class 20Jan24
DESCRIPTION:Beginners interested in learning the right way\, start here. \nExperienced students seeking to fill gaps in their knowledge regarding Use of Force\, weapons handling\, and self defense psychology\, start here. \nFirearms and ammunition are provided. You do not need to bring any of your own. \nAsk detailed questions\, learn\, explore\, and play with all the show and tell things we’ve prepared for you.  \nWe will begin together and end together. The class ends when we debrief and clean up\, no sooner. If you sign up\, plan to stay for the entirety of the class. \nThis is a two part class. Day 1 is demonstration\, discussion\, and dry practice. Day 2 is dry practice and live fire. Both days are 6 hours long. When registering\, take a look at the following list of dates\, and let us know by email which date you prefer for your live fire range day: \nSunday January 14th 2024\, 9am to 3pm\nSunday February 4th 2024\, 9am to 3pm\nSunday March 17th 20204\, 9am to 3pm\nSunday April 7th 2024\, 9am to 3pm\nSunday April 28th 2024\, 9am to 3pm\nSaturday May 18th 2024\, 9am to 3pm\nSunday June 9th 2024\, 9am to 3pm\nSunday June 30th 2024\, 9am to 3pm\nSaturday July 20th 2024\, 9am to 3pm\nSunday August 11th 2024\, 9am to 3pm\nSunday September 22nd 2024\, 9am to 3pm\nSunday October 13th 2024\, 9am to 3pm\nSaturday November 2nd 2024\, 9am to 3pm\nSunday November 24th 2024\, 9am to 3pm\nSaturday December 14th 2024\, 9am to 3pm \nTopics: \nDay 1:  \nThe role of weapons in society\nWhy do good people have “weapons of war”\nDefining the legal and moral framework for self-defense\nWhat is crime\, and how do you prevent or avoid it?\nSelf defense shooting case studies\nIntroduction to pistol\, revolver\, rifle\, and shotgun\nLive fire demonstration of buckshot\, concealed carry\, home defense\, and rifle marksmanship\nComparison of power\, lethality\, maneuverability\, ammunition capacity\, effective range\, accuracy\, price\, and ease of use\nSafe firearm loading and unloading procedures \nDay 2:  \nHow to hold\, aim\, and shoot pistol\, revolver\, rifle\, and shotgun\nShooting range etiquette\nLive fire shooting experience with steel targets and “the buffet” of guns and ammo \nStudents will handle weapons such as: \nAR15\nAR10\nAk47\nM1A\nMini14\nMP5\nGlock 17\nSmith and Wesson Shield\nWalther PPK\n1911 .45\n1911 9mm\nBrowning Hi-Power\nSnub nose revolver\n.357 magnum revolver\n12 gauge shotgun\n20 gauge shotgun\nBolt action rifle \nLocation: \nOur facility is in the mountains 1 hour east from San Jose\, or 1 hour south from Livermore. If you are an unskilled or inexperienced driver\, give yourself 2 hours to make the drive from most cities of the bay area. We will email detailed driving instructions to you when you sign up. \nPrerequisites: \nNone \nRequired Equipment:  \nNotebook and pencil\nWater\nSnacks\nLunch\nDress for the weather\nPrescription glasses\, safety glasses\, or sunglasses\nEarplugs or ear muffs\nOptional: your own firearms and ammunition \nNotes: \nEach participant should register using his or her own unique name and email address. \nWe offer the Firearm Safety program as often as feasible to meet anticipated demand. Currently we offer the class roughly every month. \nDuring the winter months it can be very cold\, so bring warm clothes. In the summer months it is very hot\, so stay in the shade and drink water. During spring and fall the weather is perfect. \nCancellations: We do not offer refunds for discretionary cancellations. If you wish to reschedule a class\, you must email info@monarchdefense.org no later than 1 hour prior to class start\, and you will then be credited with the value of your course\, which you can gift to someone else or use for any future class within 1 year. \nQuestions? Call Brian at 408-892-5460 or email info@monarchdefense.org.
URL:https://monarchdefense.org/event/firearm-safety-class/
LOCATION:Monarch Defense\, San Jose\, CA\, 95140\, United States
ATTACH;FMTTYPE=image/jpeg:https://monarchdefense.org/wp-content/uploads/2019/09/IMG_9448-1-e1703828478214.jpg
ORGANIZER;CN="Brian Wang":MAILTO:info@monarchdefense.org
GEO:37.350549547595;-121.54513018949
END:VEVENT
BEGIN:VEVENT
DTSTART;TZID=America/Los_Angeles:20240114T090000
DTEND;TZID=America/Los_Angeles:20240114T150000
DTSTAMP:20260421T013911
CREATED:20231229T043726Z
LAST-MODIFIED:20240109T233935Z
UID:10000006-1705222800-1705244400@monarchdefense.org
SUMMARY:Beginner's Live Fire Range Day Jan 14 2024
DESCRIPTION:Continue your firearms training in a beginner friendly and low pressure environment. Class sizes are small so you have great hands-on time with all the different guns and close attention from your instructors. Practice loading\, unloading\, aiming and shooting various firearms. See which type of weapon suits your body and your self defense needs. Gain confidence in safe gun handling before making your first firearm purchase or continuing onto more advanced training. \nLocation:\n \nOur facility is in the mountains 1 hour east of San Jose\, 1 hour south from Livermore. Detail directions will be emailed to those who sign up. If you are inexperienced in driving mountain roads\, give yourself 2 hours to make the trip. \nPrerequisite:\n \nFirearm Safety Class \n\nPacking List: \nDress like you are going out for a hike. It will be very hot in the summer\, very cold in the winter\, and very comfortable in spring and fall. Bring a hat\, sunglasses\, eye protection\, ear protection\, snack\, lunch\, and one gallon of water. Personal firearms are optional. \n\nCost:\n \nTuition is $125. Ammunition is $40. \nNotes: \nIf you choose to use the school’s equipment\, we provide a variety of pistols\, rifles\, revolvers\, and shotguns for students to use. \nWe do not offer refunds. You can reschedule your class if you email us in writing prior to 1 hour before class start. \nBrian Wang is the facilities\, training\, and logistics coordinator. He can be reached at 408-892-5460 or info@monarchdefense.org. \n 
URL:https://monarchdefense.org/event/beginners-live-fire-range-day/
LOCATION:Monarch Defense\, San Jose\, CA\, 95140\, United States
ATTACH;FMTTYPE=image/jpeg:https://monarchdefense.org/wp-content/uploads/2019/09/IMG_9448-1-e1703828478214.jpg
ORGANIZER;CN="Brian Wang":MAILTO:info@monarchdefense.org
GEO:37.350549547595;-121.54513018949
END:VEVENT
BEGIN:VEVENT
DTSTART;TZID=America/Los_Angeles:20240113T090000
DTEND;TZID=America/Los_Angeles:20240113T170000
DTSTAMP:20260421T013911
CREATED:20231228T213525Z
LAST-MODIFIED:20240109T233947Z
UID:10000004-1705136400-1705165200@monarchdefense.org
SUMMARY:Action 2-Gun Competition Jan 13 2024
DESCRIPTION:Exciting combat and defense oriented shooting competition with 6-8 dynamic stages of fire for pistol and rifle. Move and shoot in challenging scenarios. Distances vary from 0 meters to 400 meters and feature many reactive steel targes.  \n\n\n\nTime: \n\n\n\n9-10am open range for zeroing and practice.At 10am we’ll begin the first stage\, and alternate ranges. Plan to finish around 5pm.   \n\n\n\nLocation: \n\n\n\n1 hour east from San Jose in the mountains. Detailed driving directions will be emailed to those who register.  \n\n\n\nGuiding Principles:  \nWeapons are to be pointed up\, down\, or downrange.Keep your finger above the trigger and on the side of the gun unless you are ready to shoot.Keep your weapon on safety unless you are shooting.Load when you are ready to use your weapon\, and load it appropriately for your purpose.We’re here to shoot\, to have fun\, to learn\, to practice\, and to challenge and help each other be better. Winning against others is not the principle goal.Holsters must securely fasten the pistol to your body and cover the trigger.You and your gear are gonna get wet\, dirty\, and scratched.Help set up\, clean up\, tape targets\, and reset stages.We shoot rain or shine. Plan accordingly. We start together with set up and briefing. We end together with debrief and cleanup.You can use any gun\, optics\, and accessories\, so long as they are safe to use.Use the time from 9am to 10am to zero your weapons.In martial spirit\, you should always attempt to seek cover and to stay low.Make friends and shout encouragement!It’s okay to be slow.If someone is struggling\, help him or her improve.If you are new\, do not fret. We’ll pair you up with an experienced shooter who can coach and mentor you.Bring snacks to share.Camping is welcome.Dogs\, families\, and spectators are welcome.We regularly shoot in the dark. Prepare accordingly.Clean and put back weapons\, gear or magazines that you borrow from the school. \n\n\n\nQuestions? \n\n\n\nBrian Wang is the event organizer. He can be reached at 408-892-5460 or info@monarchdefense.org \n\n\n\nWhat is the refund policy? \n\n\n\nWe do not issue refunds\, but we do offer a very flexible reschedule policy. Notify us by email to info@monarchdefense.org within 1 hour before your class or event starts\, and we will happily apply your full credit towards a future event or class. You must use your credit within 1 calendar year. \n\n\n\n\n\n\n\n\n\n\n\n\n\n\n 
URL:https://monarchdefense.org/event/action-2-gun-competition/
LOCATION:Monarch Defense\, San Jose\, CA\, 95140\, United States
ATTACH;FMTTYPE=image/jpeg:https://monarchdefense.org/wp-content/uploads/2019/09/IMG_3221-e1703829169791.jpg
ORGANIZER;CN="Brian Wang":MAILTO:info@monarchdefense.org
GEO:37.350549547595;-121.54513018949
END:VEVENT
END:VCALENDAR